BEGIN:VCALENDAR
VERSION:2.0
PRODID:-//Quaker House - ECPv6.15.20//NONSGML v1.0//EN
CALSCALE:GREGORIAN
METHOD:PUBLISH
X-ORIGINAL-URL:https://quakerhouse.org
X-WR-CALDESC:Events for Quaker House
REFRESH-INTERVAL;VALUE=DURATION:PT1H
X-Robots-Tag:noindex
X-PUBLISHED-TTL:PT1H
BEGIN:VTIMEZONE
TZID:America/New_York
BEGIN:DAYLIGHT
TZOFFSETFROM:-0500
TZOFFSETTO:-0400
TZNAME:EDT
DTSTART:20210314T070000
END:DAYLIGHT
BEGIN:STANDARD
TZOFFSETFROM:-0400
TZOFFSETTO:-0500
TZNAME:EST
DTSTART:20211107T060000
END:STANDARD
BEGIN:DAYLIGHT
TZOFFSETFROM:-0500
TZOFFSETTO:-0400
TZNAME:EDT
DTSTART:20220313T070000
END:DAYLIGHT
BEGIN:STANDARD
TZOFFSETFROM:-0400
TZOFFSETTO:-0500
TZNAME:EST
DTSTART:20221106T060000
END:STANDARD
BEGIN:DAYLIGHT
TZOFFSETFROM:-0500
TZOFFSETTO:-0400
TZNAME:EDT
DTSTART:20230312T070000
END:DAYLIGHT
BEGIN:STANDARD
TZOFFSETFROM:-0400
TZOFFSETTO:-0500
TZNAME:EST
DTSTART:20231105T060000
END:STANDARD
END:VTIMEZONE
BEGIN:VTIMEZONE
TZID:UTC
BEGIN:STANDARD
TZOFFSETFROM:+0000
TZOFFSETTO:+0000
TZNAME:UTC
DTSTART:20240101T000000
END:STANDARD
END:VTIMEZONE
BEGIN:VEVENT
DTSTART;TZID=America/New_York:20220608T193000
DTEND;TZID=America/New_York:20220608T210000
DTSTAMP:20260425T152847
CREATED:20220514T182624Z
LAST-MODIFIED:20220609T141614Z
UID:1347-1654716600-1654722000@quakerhouse.org
SUMMARY:Putting Action to Witness: Living into the Peace Testimony
DESCRIPTION:Quaker House announces the next online session discussing the Peace Testimony. There will be a short presentation about challenges experienced while putting action to the Peace Testimony. The work of Quaker House will be used as a reference point and Friends will be invited to share their own experiences and ideas. \nRegistration for the session is below. \nThere is no charge for participation. Friends are welcome to make a contribution to support the session. Connection information will be included in the registration confirmation. We will send a reminder email the day of the event. \nNote that the session was recorded and will be available on the Quaker House website.
URL:https://quakerhouse.org/event/putting-action-to-witness-living-into-the-peace-testimony/
LOCATION:Online Event
CATEGORIES:Events with Other Meetings and Groups
ORGANIZER;CN="Quaker House":MAILTO:qpr@quaker.org
END:VEVENT
BEGIN:VEVENT
DTSTART;TZID=UTC:20250412T100000
DTEND;TZID=UTC:20250412T150000
DTSTAMP:20260425T152847
CREATED:20250303T194515Z
LAST-MODIFIED:20250303T195553Z
UID:1696-1744452000-1744470000@quakerhouse.org
SUMMARY:Friends Gathering at Quaker House
DESCRIPTION:Friends from Friends Churches of North Carolina\, Friends Fellowship of North Carolina\, Piedmont Friends Yearly Meeting and Fellowship\, and North Carolina Yearly Meeting-Conservative will gather for a day of fellowship\, worship\, and sharing. A brief presentation by the Executive Director of Quaker House will be followed by questions and answers and an open house at Quaker House. \nTentative Schedule \n\n\n\nGather with light refreshments:\n10:00-11:00\n\n\nIntroductions and Queries:\n11:00-12:00\n\n\nBrown bag lunch:\n12:00-1:00\n\n\nQuaker House Presentation:\n1:00-1:45\n\n\nClosing Worship:\n1:45-2:15\n\n\nOpen House at Quaker House or Continued Fellowship:\n2:15-2:45\n\n\n\nClick Here to Register
URL:https://quakerhouse.org/event/friends-gathering/
LOCATION:Highland Pebyterian Church\, 111 Highland Avenue\, Fayetteville\, 28305\, United States
ORGANIZER;CN="Quaker House":MAILTO:qpr@quaker.org
END:VEVENT
END:VCALENDAR